BEGIN:VCALENDAR
VERSION:2.0
PRODID:-//eventon.com NONSGML v1.0//EN
CALSCALE:GREGORIAN
METHOD:PUBLISH
BEGIN:VEVENT
UID:69e54aec5de4c
DTSTAMP:20260419T213644Z
DTSTART:20240712T092000Z
DTEND:20240712T092000Z
LOCATION:
SUMMARY:Subsidieronde ZonMw nieuwe proeftuinen open
DESCRIPTION:\nhttps://makeitconsortium.nl/evenement/subsidieronde-zonmw-nie
 uwe-proeftuinen-open/
URL:https://makeitconsortium.nl/evenement/subsidieronde-zonmw-nieuwe-proeftuinen-open/
END:VEVENT
END:VCALENDAR